BEGIN:VCALENDAR
VERSION:2.0
PRODID:-//ChamberMaster//Event Calendar 2.0//EN
METHOD:PUBLISH
X-PUBLISHED-TTL:P3D
REFRESH-INTERVAL:P3D
CALSCALE:GREGORIAN
BEGIN:VEVENT
DTSTART:20210722T213000Z
DTEND:20210722T220000Z
X-MICROSOFT-CDO-ALLDAYEVENT:FALSE
SUMMARY:Graduate Program Virtual Information Session
DESCRIPTION:Are you thinking about earning your master's degree? Connect with a Walsh Graduate Admissions Advisor to answer your questions and learn how to take that next step to start your degree! Join this virtual session to learn about: Walsh master degree program options in business\, technology\, and dual degree options What's needed for admission and how to apply - we'll waive your application fee! Admission requirements and how to start in September Options to afford your master's - financial aid resources & graduate student scholarships Flexible class formats to fit into your life and schedule Resources and next steps to be successful in your master's degree
X-ALT-DESC;FMTTYPE=text/html:Are you thinking about earning your master&#39\;s degree? Connect with a Walsh Graduate Admissions Advisor to answer your questions and learn how to take that next step to start your degree! Join this virtual session to learn about: Walsh master degree program options in business\, technology\, and dual degree options What&#39\;s needed for admission and how to apply - we&#39\;ll waive your application fee! Admission requirements and how to start in September Options to afford your master&#39\;s - financial aid resources &amp\; graduate student scholarships Flexible class formats to fit into your life and schedule Resources and next steps to be successful in your master&#39\;s degree
LOCATION:Virtual
UID:e.2466.2589
SEQUENCE:3
DTSTAMP:20260421T132552Z
URL:http://macombcountychamber.chambermaster.com/events/details/graduate-program-virtual-information-session-2589
END:VEVENT

END:VCALENDAR
